BEGIN:VCALENDAR
VERSION:2.0
PRODID:-//Cultural Access Collab - ECPv6.7.0//NONSGML v1.0//EN
CALSCALE:GREGORIAN
METHOD:PUBLISH
X-WR-CALNAME:Cultural Access Collab
X-ORIGINAL-URL:https://culturalaccesscollaborative.org
X-WR-CALDESC:Events for Cultural Access Collab
REFRESH-INTERVAL;VALUE=DURATION:PT1H
X-Robots-Tag:noindex
X-PUBLISHED-TTL:PT1H
BEGIN:VTIMEZONE
TZID:America/Chicago
BEGIN:DAYLIGHT
TZOFFSETFROM:-0600
TZOFFSETTO:-0500
TZNAME:CDT
DTSTART:20250309T080000
END:DAYLIGHT
BEGIN:STANDARD
TZOFFSETFROM:-0500
TZOFFSETTO:-0600
TZNAME:CST
DTSTART:20251102T070000
END:STANDARD
END:VTIMEZONE
BEGIN:VEVENT
DTSTART;TZID=America/Chicago:20250207T190000
DTEND;TZID=America/Chicago:20250207T213000
DTSTAMP:20260421T104308
CREATED:20250117T021941Z
LAST-MODIFIED:20250117T021941Z
UID:10014187-1738954800-1738963800@culturalaccesscollaborative.org
SUMMARY:Hard Done By: Contemporary Irish Trans Films at FACETS
DESCRIPTION:On Friday\, February 7\, Full Spectrum Features presents a selection of contemporary trans short films from Ireland presented in person by Dublin-based curator James Hudson: from an artist’s self-destructive spiral to giallo-inspired rape revenge by way of a surreal techno-horror\, to a multidimensional dramedy starring an up-and-coming stand-up comedian and more. \nJames Hudson is a Dublin-based programmer at the forefront of trans Irish cinema\, both showcasing international trans filmmaking in Ireland and bringing Irish-made trans films to the world stage. He is traveling to Chicago specifically for this one-night-only event\, part one of a trans cinema cultural exchange between Chicago and Dublin. \nThe shorts program will be followed by a post-screening discussion with curator James Hudson\, moderated by Henry Hanson. \nAccessibility: All films will be presented with open captions.  The post-screening Q&A will have live CART captioning. \nNote on wheelchair accessibility: The building and theater are accessible via ramps. The bathrooms are accessible via a heavy door\, have a larger stall with grab bars\, but are not fully wheelchair accessible. \nhttps://facets.org/programs/hard-done-by-contemporary-irish-trans-films/
URL:https://culturalaccesscollaborative.org/access-event/hard-done-by-contemporary-irish-trans-films-at-facets/
LOCATION:FACETS\, 1517 W Fullerton Ave\, Chicago\, IL\, 60614\, United States
CATEGORIES:In-Person Event
ORGANIZER;CN="Full Spectrum Features":MAILTO:cassidy@fullspectrumfeatures.com
END:VEVENT
BEGIN:VEVENT
DTSTART;TZID=America/Chicago:20250208T110000
DTEND;TZID=America/Chicago:20250208T150000
DTSTAMP:20260421T104308
CREATED:20241220T152537Z
LAST-MODIFIED:20241220T152537Z
UID:10014171-1739012400-1739026800@culturalaccesscollaborative.org
SUMMARY:Family Day | Comfy Cozy at the Museum of Contemporary Art
DESCRIPTION:Designed for children under 12 and their grown-ups\, MCA Family Days invite our youngest visitors to be the museum’s artists\, thinkers\, and collaborators. Witness an artist’s first creation. Experience inspiration spark from play and wonder. Do something nearly unheard of in a contemporary art museum—sit on comfy pillows and eat free snacks. Every second Saturday\, joyfully disregard the boundaries between adult and child\, artist and visitor\, museum and studio\, teacher and learner. \nAdmission is free to Family Day attendees. ASL interpretation is provided. \nhttps://visit.mcachicago.org/events/family-day-comfy-cozy/
URL:https://culturalaccesscollaborative.org/access-event/family-day-comfy-cozy-at-the-museum-of-contemporary-art/
LOCATION:Museum of Contemporary Art\, 220 E Chicago Ave\, Chicago\, 60611\, United States
END:VEVENT
END:VCALENDAR