BEGIN:VCALENDAR
VERSION:2.0
PRODID:-//Cultural Access Collab - ECPv6.7.0//NONSGML v1.0//EN
CALSCALE:GREGORIAN
METHOD:PUBLISH
X-ORIGINAL-URL:https://culturalaccesscollaborative.org
X-WR-CALDESC:Events for Cultural Access Collab
REFRESH-INTERVAL;VALUE=DURATION:PT1H
X-Robots-Tag:noindex
X-PUBLISHED-TTL:PT1H
BEGIN:VTIMEZONE
TZID:America/Chicago
BEGIN:DAYLIGHT
TZOFFSETFROM:-0600
TZOFFSETTO:-0500
TZNAME:CDT
DTSTART:20250309T080000
END:DAYLIGHT
BEGIN:STANDARD
TZOFFSETFROM:-0500
TZOFFSETTO:-0600
TZNAME:CST
DTSTART:20251102T070000
END:STANDARD
END:VTIMEZONE
BEGIN:VEVENT
DTSTART;TZID=America/Chicago:20250830T140000
DTEND;TZID=America/Chicago:20250830T163000
DTSTAMP:20260423T065328
CREATED:20250729T223555Z
LAST-MODIFIED:20250729T223555Z
UID:10014296-1756562400-1756571400@culturalaccesscollaborative.org
SUMMARY:Hershey Felder’s Rachmaninoff and the Tsar - ASL Interpreted Performance at Writers Theatre
DESCRIPTION:ASL INTERPRETED PERFORMANCE! $30.00 TICKETS AVAILABLE USE PROMO CODE: WTASL2526 \nPerformance on Saturday\, August 30 at 2pm. \nIf you experience any issues with this promo code\, please reach out to the box office at 847-242-6000 or email them at BOM@WritersTheatre.org. \nHaving safely escaped Russia during the 1917 revolution\, beloved composer and pianist Sergei Rachmaninoff performed all over the world before eventually making his home in sunny Beverly Hills. Privately longing for the Russia that he knew and loved as a young man\, a figure from his past continues to haunt him—Tsar Nicholas II. Hershey Felder’s newest musical play will feature the virtuoso actor/pianist in the role of Rachmaninoff alongside British-Italian actor Jonathan Silvestri in the role of Nicholas II. Featuring the composer’s most beloved works\, Rachmaninoff and the Tsar promises to be another mystical musical journey in the inimitable Hershey Felder style that audiences have come to know and love. \nAccessibility: ASL interpreted. \nhttps://www.writerstheatre.org/events/hershey-felders-rachmaninoff-and-the-tsar-
URL:https://culturalaccesscollaborative.org/access-event/hershey-felders-rachmaninoff-and-the-tsar-asl-interpreted-performance-at-writers-theatre/
LOCATION:Writers Theatre\, 325 Tudor Ct\, Glencoe\, IL\, 60022
CATEGORIES:In-Person Event
ORGANIZER;CN="Writers Theatre":MAILTO:boxoffice@writerstheatre.org
END:VEVENT
END:VCALENDAR