BEGIN:VCALENDAR
VERSION:2.0
PRODID:-//Cultural Access Collab - ECPv6.7.0//NONSGML v1.0//EN
CALSCALE:GREGORIAN
METHOD:PUBLISH
X-WR-CALNAME:Cultural Access Collab
X-ORIGINAL-URL:https://culturalaccesscollaborative.org
X-WR-CALDESC:Events for Cultural Access Collab
REFRESH-INTERVAL;VALUE=DURATION:PT1H
X-Robots-Tag:noindex
X-PUBLISHED-TTL:PT1H
BEGIN:VTIMEZONE
TZID:America/Chicago
BEGIN:DAYLIGHT
TZOFFSETFROM:-0600
TZOFFSETTO:-0500
TZNAME:CDT
DTSTART:20260308T080000
END:DAYLIGHT
BEGIN:STANDARD
TZOFFSETFROM:-0500
TZOFFSETTO:-0600
TZNAME:CST
DTSTART:20261101T070000
END:STANDARD
END:VTIMEZONE
BEGIN:VEVENT
DTSTART;TZID=America/Chicago:20260320T120000
DTEND;TZID=America/Chicago:20260605T143000
DTSTAMP:20260421T071959
CREATED:20260301T171122Z
LAST-MODIFIED:20260301T171122Z
UID:10014437-1774008000-1780669800@culturalaccesscollaborative.org
SUMMARY:Disability Justice Grounded Birthwork: Virtual Series
DESCRIPTION:Disability Justice Grounded Birthwork – Starting Friday March 20th\, 2026\, 12 – 2:30pm CST via Zoom \nis a:\n12 week series (10 weeks of content; 2 weeks of community building) on the intersections of Disability Justice and Reproductive Justice. We will immerse ourselves in the origins of eugenics and how it has shaped the medical industrial complex and policing we see today. Then we will ground in how the MIC and policing have shaped and sustain the current ableist and hostile state of reproductive care and anti-bodily autonomy. We will take considerable time centering the most and multi marginalized folks navigating these systems and communities. We will round this experience out with how to do this work mindfully\, equitably and sustainably\, while centering care. \nThis is for: All birthworkers\, doulas\, birthkeepers and folks who do reproductive care and support. Abortion\, Birth\, Fertility\, Grief & Loss\, Postpartum and more. While this series is centered on the full spectrum of birth and reproductive care workers\, it is also open to parents and caregivers and I encourage you to sign up! \nWe have 4 AMAZING queer and trans Black covid cautious Birth and Reproductive care workers as community facilitators \nWe got ASL\, CART (live transcription) and Captions \nWe have 30\, Thirty!?\, yes THIRTY full scholarships for:\n– Black and Indigenous Disabled Birthworkers and/or Parents\n– Disabled\, DEAF/Hard of Hearing\, and/or Blind/Low Vision folks/careworkers\n– Just email me: rise@riotousroots.com \nWhat’s the line up you ask? \nWeek 1: Grounding: Disability Justice\, Reproductive Justice\, Disability\, Ableism and Access!\nWeek 2: Interrupting Ableism and AntiBlackness: Internally and Intuitionally\nWeek 3: Impacts of Environmental and Global Injustice on Reproductive Health\nWeek 4: Protecting Disabled\, Chronically Ill and Neurodivergent Pregnant People: Lateral Advocacy\, Harm Reduction and Carceral Systems\nWeek 5: Centering Survivorhood\nWeek 6: Break/Integration Week\nWeek 7: Reclaiming Grief\nWeek 8: Respecting Black\, Indigenous and Ancestral Cultural Practices\nWeek 9: Postpartum is Forever and PMADS Suck!\nWeek 10 : Centering Parents and Caregivers A-Z: Community is Liberation\nWeek 11: Sustaining in Community: Self Solidarity\, Accountability\, Humility and Interpersonal Connection\nWeek 12: Closing/Community \nI’m so excited to be in this 3rd year! This is still the only Birthwork course that is completely centered in Disability Justice. Not a module or brief mention. I truly believe Disability Justice is the grounded for all other justice movements! \nWill you consider joining? Sharing especially with those you think would be interested? Hyping me up? \nAgain\, the link is here below: \nhttps://riotous-roots-site-e183.thinkific.com/courses/copy-of-disability-justice-grounded-birthwork-spring-2026 \nHope to hear from you <3\n~ Rise \n  \nAccessibility: ASL Interpretation\, CART (live transcription)\, and Captioning \nWebsite: https://riotous-roots-site-e183.thinkific.com/courses/copy-of-disability-justice-grounded-birthwork-spring-2026
URL:https://culturalaccesscollaborative.org/access-event/disability-justice-grounded-birthwork-virtual-series/
LOCATION:Zoom
CATEGORIES:Virtual Event
ORGANIZER;CN="Riotous Roots":MAILTO:rise@riotousroots.com
END:VEVENT
BEGIN:VEVENT
DTSTART;TZID=America/Chicago:20260417T193000
DTEND;TZID=America/Chicago:20260417T220000
DTSTAMP:20260421T071959
CREATED:20260326T212046Z
LAST-MODIFIED:20260326T212046Z
UID:10014441-1776454200-1776463200@culturalaccesscollaborative.org
SUMMARY:"Ma Rainey's Black Bottom" ASL Performance at The Goodman
DESCRIPTION:DIRECTED BY CHUCK SMITH\nASSOCIATE DIRECTOR AND MUSIC DIRECTOR HARRY J. LENNIX \n“The more music you got in the world\, the fuller it is.” \nMa Rainey’s band is waiting. It’s 1927 Chicago\, and “The Mother of the Blues” takes her time getting ready to record. Tensions and temperatures rise as the musicians recount tales of rage\, joy\, betrayal and faith in astonishing stories and a heart-stopping climax. Chicago legends Chuck Smith and Harry J. Lennix reunite for the play that smashed box office records in its 1997 Goodman premiere for this major revival of “a genuine American masterpiece” (Chicago Reader). \n  \nAccessibility: ASL Interpretation \nWebsite: https://www.goodmantheatre.org/show/ma-raineys-black-bottom/
URL:https://culturalaccesscollaborative.org/access-event/ma-raineys-black-bottom-asl-performance-at-the-goodman/
LOCATION:Goodman Theatre\, 170 N Dearborn St\, Chicago\, 60601\, United States
CATEGORIES:In-Person Event
END:VEVENT
END:VCALENDAR