BEGIN:VCALENDAR
VERSION:2.0
PRODID:-//Cultural Access Collab - ECPv6.7.0//NONSGML v1.0//EN
CALSCALE:GREGORIAN
METHOD:PUBLISH
X-ORIGINAL-URL:https://culturalaccesscollaborative.org
X-WR-CALDESC:Events for Cultural Access Collab
REFRESH-INTERVAL;VALUE=DURATION:PT1H
X-Robots-Tag:noindex
X-PUBLISHED-TTL:PT1H
BEGIN:VTIMEZONE
TZID:America/Chicago
BEGIN:DAYLIGHT
TZOFFSETFROM:-0600
TZOFFSETTO:-0500
TZNAME:CDT
DTSTART:20250309T080000
END:DAYLIGHT
BEGIN:STANDARD
TZOFFSETFROM:-0500
TZOFFSETTO:-0600
TZNAME:CST
DTSTART:20251102T070000
END:STANDARD
END:VTIMEZONE
BEGIN:VEVENT
DTSTART;TZID=America/Chicago:20250108T133000
DTEND;TZID=America/Chicago:20250108T160000
DTSTAMP:20260423T065002
CREATED:20241207T233449Z
LAST-MODIFIED:20241207T233449Z
UID:10014162-1736343000-1736352000@culturalaccesscollaborative.org
SUMMARY:Disney's Frozen: The Broadway Musical - Open Captioned Performance at Paramount Theatre
DESCRIPTION:The theatrical production of Frozen brings Disney’s beloved animated film to life and fills the stage with winter magic. Bring your friends and family for this holiday extravaganza\, a snowy Disney fairytale reimagined for the stage by Paramount Theatre. \nThe open captioning setup includes a LED screen close to the stage. Purchase tickets to these performances online\, over the phone or in person. Standard ticket prices apply. \nhttps://paramountaurora.com/events/frozen-the-broadway-musical/
URL:https://culturalaccesscollaborative.org/access-event/disneys-frozen-the-broadway-musical-open-captioned-performance-at-paramount-theatre/
LOCATION:Paramount Theatre\, 23 E Galena Blvd\, Aurora\, 60506\, United States
ORGANIZER;CN="Paramount Theatre":MAILTO:info@paramountarts.com
END:VEVENT
END:VCALENDAR